BEGIN:VCALENDAR
VERSION:2.0
PRODID:-//The Richmond Neighborhood Center - ECPv6.15.20//NONSGML v1.0//EN
CALSCALE:GREGORIAN
METHOD:PUBLISH
X-WR-CALNAME:The Richmond Neighborhood Center
X-ORIGINAL-URL:https://richmondsf.org
X-WR-CALDESC:Events for The Richmond Neighborhood Center
REFRESH-INTERVAL;VALUE=DURATION:PT1H
X-Robots-Tag:noindex
X-PUBLISHED-TTL:PT1H
BEGIN:VTIMEZONE
TZID:America/Los_Angeles
BEGIN:DAYLIGHT
TZOFFSETFROM:-0800
TZOFFSETTO:-0700
TZNAME:PDT
DTSTART:20250309T100000
END:DAYLIGHT
BEGIN:STANDARD
TZOFFSETFROM:-0700
TZOFFSETTO:-0800
TZNAME:PST
DTSTART:20251102T090000
END:STANDARD
BEGIN:DAYLIGHT
TZOFFSETFROM:-0800
TZOFFSETTO:-0700
TZNAME:PDT
DTSTART:20260308T100000
END:DAYLIGHT
BEGIN:STANDARD
TZOFFSETFROM:-0700
TZOFFSETTO:-0800
TZNAME:PST
DTSTART:20261101T090000
END:STANDARD
BEGIN:DAYLIGHT
TZOFFSETFROM:-0800
TZOFFSETTO:-0700
TZNAME:PDT
DTSTART:20270314T100000
END:DAYLIGHT
BEGIN:STANDARD
TZOFFSETFROM:-0700
TZOFFSETTO:-0800
TZNAME:PST
DTSTART:20271107T090000
END:STANDARD
END:VTIMEZONE
BEGIN:VEVENT
DTSTART;TZID=America/Los_Angeles:20260507T153000
DTEND;TZID=America/Los_Angeles:20260507T163000
DTSTAMP:20260420T082159
CREATED:20250205T223844Z
LAST-MODIFIED:20250205T223844Z
UID:10000082-1778167800-1778171400@richmondsf.org
SUMMARY:One Richmond Cleanup
DESCRIPTION:Join us on First Thursdays from 3:30-4:30pm for a One Richmond Cleanup! Let’s come together to keep our neighborhood beautiful and vibrant 🌿✨. Whether you’re a longtime resident or new to the area\, all are welcome to lend a hand! Clean up supplies will be provided. \n📍 Meet at 802 Clement Street.\nFirst Thursdays of the month from 3:30-4:30pm
URL:https://richmondsf.org/event/one-richmond-cleanup/2026-05-07/
LOCATION:One Richmond\, 802 Clement St\, San Francisco\, CA\, 94118\, United States
CATEGORIES:Community
ATTACH;FMTTYPE=image/png:https://richmondsf.org/wp-content/uploads/2025/02/One-Richmond-Refuse-Refuse-.png
END:VEVENT
END:VCALENDAR