BEGIN:VCALENDAR
VERSION:2.0
PRODID:-//The Richmond Neighborhood Center - ECPv6.15.20//NONSGML v1.0//EN
CALSCALE:GREGORIAN
METHOD:PUBLISH
X-ORIGINAL-URL:https://richmondsf.org
X-WR-CALDESC:Events for The Richmond Neighborhood Center
REFRESH-INTERVAL;VALUE=DURATION:PT1H
X-Robots-Tag:noindex
X-PUBLISHED-TTL:PT1H
BEGIN:VTIMEZONE
TZID:America/Los_Angeles
BEGIN:DAYLIGHT
TZOFFSETFROM:-0800
TZOFFSETTO:-0700
TZNAME:PDT
DTSTART:20240310T100000
END:DAYLIGHT
BEGIN:STANDARD
TZOFFSETFROM:-0700
TZOFFSETTO:-0800
TZNAME:PST
DTSTART:20241103T090000
END:STANDARD
BEGIN:DAYLIGHT
TZOFFSETFROM:-0800
TZOFFSETTO:-0700
TZNAME:PDT
DTSTART:20250309T100000
END:DAYLIGHT
BEGIN:STANDARD
TZOFFSETFROM:-0700
TZOFFSETTO:-0800
TZNAME:PST
DTSTART:20251102T090000
END:STANDARD
BEGIN:DAYLIGHT
TZOFFSETFROM:-0800
TZOFFSETTO:-0700
TZNAME:PDT
DTSTART:20260308T100000
END:DAYLIGHT
BEGIN:STANDARD
TZOFFSETFROM:-0700
TZOFFSETTO:-0800
TZNAME:PST
DTSTART:20261101T090000
END:STANDARD
END:VTIMEZONE
BEGIN:VEVENT
DTSTART;TZID=America/Los_Angeles:20250403T153000
DTEND;TZID=America/Los_Angeles:20250403T163000
DTSTAMP:20260423T081837
CREATED:20250205T223844Z
LAST-MODIFIED:20250205T223844Z
UID:10000069-1743694200-1743697800@richmondsf.org
SUMMARY:One Richmond Cleanup
DESCRIPTION:Join us on First Thursdays from 3:30-4:30pm for a One Richmond Cleanup! Let’s come together to keep our neighborhood beautiful and vibrant 🌿✨. Whether you’re a longtime resident or new to the area\, all are welcome to lend a hand! Clean up supplies will be provided. \n📍 Meet at 802 Clement Street.\nFirst Thursdays of the month from 3:30-4:30pm
URL:https://richmondsf.org/event/one-richmond-cleanup/2025-04-03/
LOCATION:One Richmond\, 802 Clement St\, San Francisco\, CA\, 94118\, United States
CATEGORIES:Community
ATTACH;FMTTYPE=image/png:https://richmondsf.org/wp-content/uploads/2025/02/One-Richmond-Refuse-Refuse-.png
END:VEVENT
BEGIN:VEVENT
DTSTART;TZID=America/Los_Angeles:20250418T120000
DTEND;TZID=America/Los_Angeles:20250418T133000
DTSTAMP:20260423T081837
CREATED:20250113T215411Z
LAST-MODIFIED:20250604T015009Z
UID:10000155-1744977600-1744983000@richmondsf.org
SUMMARY:Join us for a Neighborhood Clean-Up!
DESCRIPTION:  \n📍 Location: The Richmond Neighborhood Center\, 741 30th Ave (near Balboa)\, San Francisco\, CA 94121 \n🧹 What to expect: We’ll gather supplies at the  Neighborhood Center\, form our crew\, and clean up the neighborhood! It’s a great way to give back and beautify the streets we all love. \n✨ Sign up today or just turn up and let’s make a difference\, one block at a time! \n#CommunityCleanup #SanFrancisco #Volunteer #RichmondDistrict #therichmondneighborhoodcenter  #RefuseRefuseSF #togethersf #outerrichmond #richmonddistrictsf
URL:https://richmondsf.org/event/join-us-for-a-neighborhood-clean-up-2/2025-04-18/
LOCATION:The Richmond Neighborhood Center\, 741 30th Ave\, San Francisco\, CA\, 94121\, United States
ATTACH;FMTTYPE=image/jpeg:https://richmondsf.org/wp-content/uploads/2024/12/Refuse-Refuse-and-The-Richmond-Neighborhood-Center-Artboard-1.jpg
END:VEVENT
BEGIN:VEVENT
DTSTART;TZID=America/Los_Angeles:20250419T130000
DTEND;TZID=America/Los_Angeles:20250419T170000
DTSTAMP:20260423T081837
CREATED:20250404T182803Z
LAST-MODIFIED:20250404T212027Z
UID:10000129-1745067600-1745082000@richmondsf.org
SUMMARY:Join us at the Richmond Library Open House on Saturday\, April 19\, 2025!
DESCRIPTION:📚✨ Join us at the Richmond Library Open House on Saturday\, April 19\, 2025! \nThe Richmond Neighborhood Center is excited to be part of this fun\, free community event! 💛Check out the schedule: \n🕐 1–2PM: Richmond Library history + tour with a librarian🎶 2:30–3:30PM: Guzheng performance led by Carol Leung🎻 4–5PM: Balkan beats & klezmer with Hernandez Hideaway🎉 1–5PM: Family activities\, raffles\, free books & library swag! \n📍 Richmond Branch Library | 351 9th Ave📅 Saturday\, April 19\, 2025🙌 All ages welcome—come say hi!
URL:https://richmondsf.org/event/join-us-at-the-richmond-library-open-house-on-saturday-april-19-2025/
LOCATION:Richmond Branch Library\, 351 9th Ave\, San Francisco\, CA\, 94118\, United States
ATTACH;FMTTYPE=image/png:https://richmondsf.org/wp-content/uploads/2025/04/SFPL-Richmond-Branch-Open-House-2025.png
END:VEVENT
END:VCALENDAR