BEGIN:VCALENDAR
VERSION:2.0
PRODID:-//The Richmond Neighborhood Center - ECPv6.15.20//NONSGML v1.0//EN
CALSCALE:GREGORIAN
METHOD:PUBLISH
X-ORIGINAL-URL:https://richmondsf.org
X-WR-CALDESC:Events for The Richmond Neighborhood Center
REFRESH-INTERVAL;VALUE=DURATION:PT1H
X-Robots-Tag:noindex
X-PUBLISHED-TTL:PT1H
BEGIN:VTIMEZONE
TZID:America/Los_Angeles
BEGIN:DAYLIGHT
TZOFFSETFROM:-0800
TZOFFSETTO:-0700
TZNAME:PDT
DTSTART:20280312T100000
END:DAYLIGHT
BEGIN:STANDARD
TZOFFSETFROM:-0700
TZOFFSETTO:-0800
TZNAME:PST
DTSTART:20281105T090000
END:STANDARD
BEGIN:DAYLIGHT
TZOFFSETFROM:-0800
TZOFFSETTO:-0700
TZNAME:PDT
DTSTART:20290311T100000
END:DAYLIGHT
BEGIN:STANDARD
TZOFFSETFROM:-0700
TZOFFSETTO:-0800
TZNAME:PST
DTSTART:20291104T090000
END:STANDARD
BEGIN:DAYLIGHT
TZOFFSETFROM:-0800
TZOFFSETTO:-0700
TZNAME:PDT
DTSTART:20300310T100000
END:DAYLIGHT
BEGIN:STANDARD
TZOFFSETFROM:-0700
TZOFFSETTO:-0800
TZNAME:PST
DTSTART:20301103T090000
END:STANDARD
BEGIN:DAYLIGHT
TZOFFSETFROM:-0800
TZOFFSETTO:-0700
TZNAME:PDT
DTSTART:20310309T100000
END:DAYLIGHT
BEGIN:STANDARD
TZOFFSETFROM:-0700
TZOFFSETTO:-0800
TZNAME:PST
DTSTART:20311102T090000
END:STANDARD
END:VTIMEZONE
BEGIN:VEVENT
DTSTART;TZID=America/Los_Angeles:20290806T120000
DTEND;TZID=America/Los_Angeles:20290806T133000
DTSTAMP:20260420T155717
CREATED:20250604T190935Z
LAST-MODIFIED:20250604T191109Z
UID:10000385-1880712000-1880717400@richmondsf.org
SUMMARY:Join us for a Neighborhood Clean-Up!
DESCRIPTION:  \n📍 Location: The Richmond Neighborhood Center\, 741 30th Ave (near Balboa)\, San Francisco\, CA 94121 \n🧹 What to expect: We’ll gather supplies at the  Neighborhood Center\, form our crew\, and clean up the neighborhood! It’s a great way to give back and beautify the streets we all love. \n✨ Sign up today or just turn up and let’s make a difference\, one block at a time! \n#CommunityCleanup #SanFrancisco #Volunteer #RichmondDistrict #therichmondneighborhoodcenter  #RefuseRefuseSF #togethersf #outerrichmond #richmonddistrictsf
URL:https://richmondsf.org/event/join-us-for-a-neighborhood-clean-up-2-2/2029-08-06/
LOCATION:The Richmond Neighborhood Center\, 741 30th Ave\, San Francisco\, CA\, 94121\, United States
ATTACH;FMTTYPE=image/png:https://richmondsf.org/wp-content/uploads/2025/01/2025-Richmond-Neighborhood-Center-Cleanup-Flyer.pdf-Instagram-Post-45.png
END:VEVENT
BEGIN:VEVENT
DTSTART;TZID=America/Los_Angeles:20290903T120000
DTEND;TZID=America/Los_Angeles:20290903T133000
DTSTAMP:20260420T155717
CREATED:20250604T190935Z
LAST-MODIFIED:20250604T191109Z
UID:10000386-1883131200-1883136600@richmondsf.org
SUMMARY:Join us for a Neighborhood Clean-Up!
DESCRIPTION:  \n📍 Location: The Richmond Neighborhood Center\, 741 30th Ave (near Balboa)\, San Francisco\, CA 94121 \n🧹 What to expect: We’ll gather supplies at the  Neighborhood Center\, form our crew\, and clean up the neighborhood! It’s a great way to give back and beautify the streets we all love. \n✨ Sign up today or just turn up and let’s make a difference\, one block at a time! \n#CommunityCleanup #SanFrancisco #Volunteer #RichmondDistrict #therichmondneighborhoodcenter  #RefuseRefuseSF #togethersf #outerrichmond #richmonddistrictsf
URL:https://richmondsf.org/event/join-us-for-a-neighborhood-clean-up-2-2/2029-09-03/
LOCATION:The Richmond Neighborhood Center\, 741 30th Ave\, San Francisco\, CA\, 94121\, United States
ATTACH;FMTTYPE=image/png:https://richmondsf.org/wp-content/uploads/2025/01/2025-Richmond-Neighborhood-Center-Cleanup-Flyer.pdf-Instagram-Post-45.png
END:VEVENT
BEGIN:VEVENT
DTSTART;TZID=America/Los_Angeles:20290906T153000
DTEND;TZID=America/Los_Angeles:20290906T163000
DTSTAMP:20260420T155717
CREATED:20250205T223844Z
LAST-MODIFIED:20250205T223844Z
UID:10000122-1883403000-1883406600@richmondsf.org
SUMMARY:One Richmond Cleanup
DESCRIPTION:Join us on First Thursdays from 3:30-4:30pm for a One Richmond Cleanup! Let’s come together to keep our neighborhood beautiful and vibrant 🌿✨. Whether you’re a longtime resident or new to the area\, all are welcome to lend a hand! Clean up supplies will be provided. \n📍 Meet at 802 Clement Street.\nFirst Thursdays of the month from 3:30-4:30pm
URL:https://richmondsf.org/event/one-richmond-cleanup/2029-09-06/
LOCATION:One Richmond\, 802 Clement St\, San Francisco\, CA\, 94118\, United States
CATEGORIES:Community
ATTACH;FMTTYPE=image/png:https://richmondsf.org/wp-content/uploads/2025/02/One-Richmond-Refuse-Refuse-.png
END:VEVENT
BEGIN:VEVENT
DTSTART;TZID=America/Los_Angeles:20291001T120000
DTEND;TZID=America/Los_Angeles:20291001T133000
DTSTAMP:20260420T155717
CREATED:20250604T190935Z
LAST-MODIFIED:20250604T191109Z
UID:10000387-1885550400-1885555800@richmondsf.org
SUMMARY:Join us for a Neighborhood Clean-Up!
DESCRIPTION:  \n📍 Location: The Richmond Neighborhood Center\, 741 30th Ave (near Balboa)\, San Francisco\, CA 94121 \n🧹 What to expect: We’ll gather supplies at the  Neighborhood Center\, form our crew\, and clean up the neighborhood! It’s a great way to give back and beautify the streets we all love. \n✨ Sign up today or just turn up and let’s make a difference\, one block at a time! \n#CommunityCleanup #SanFrancisco #Volunteer #RichmondDistrict #therichmondneighborhoodcenter  #RefuseRefuseSF #togethersf #outerrichmond #richmonddistrictsf
URL:https://richmondsf.org/event/join-us-for-a-neighborhood-clean-up-2-2/2029-10-01/
LOCATION:The Richmond Neighborhood Center\, 741 30th Ave\, San Francisco\, CA\, 94121\, United States
ATTACH;FMTTYPE=image/png:https://richmondsf.org/wp-content/uploads/2025/01/2025-Richmond-Neighborhood-Center-Cleanup-Flyer.pdf-Instagram-Post-45.png
END:VEVENT
BEGIN:VEVENT
DTSTART;TZID=America/Los_Angeles:20291004T153000
DTEND;TZID=America/Los_Angeles:20291004T163000
DTSTAMP:20260420T155717
CREATED:20250205T223844Z
LAST-MODIFIED:20250205T223844Z
UID:10000123-1885822200-1885825800@richmondsf.org
SUMMARY:One Richmond Cleanup
DESCRIPTION:Join us on First Thursdays from 3:30-4:30pm for a One Richmond Cleanup! Let’s come together to keep our neighborhood beautiful and vibrant 🌿✨. Whether you’re a longtime resident or new to the area\, all are welcome to lend a hand! Clean up supplies will be provided. \n📍 Meet at 802 Clement Street.\nFirst Thursdays of the month from 3:30-4:30pm
URL:https://richmondsf.org/event/one-richmond-cleanup/2029-10-04/
LOCATION:One Richmond\, 802 Clement St\, San Francisco\, CA\, 94118\, United States
CATEGORIES:Community
ATTACH;FMTTYPE=image/png:https://richmondsf.org/wp-content/uploads/2025/02/One-Richmond-Refuse-Refuse-.png
END:VEVENT
BEGIN:VEVENT
DTSTART;TZID=America/Los_Angeles:20291101T153000
DTEND;TZID=America/Los_Angeles:20291101T163000
DTSTAMP:20260420T155717
CREATED:20250205T223844Z
LAST-MODIFIED:20250205T223844Z
UID:10000124-1888241400-1888245000@richmondsf.org
SUMMARY:One Richmond Cleanup
DESCRIPTION:Join us on First Thursdays from 3:30-4:30pm for a One Richmond Cleanup! Let’s come together to keep our neighborhood beautiful and vibrant 🌿✨. Whether you’re a longtime resident or new to the area\, all are welcome to lend a hand! Clean up supplies will be provided. \n📍 Meet at 802 Clement Street.\nFirst Thursdays of the month from 3:30-4:30pm
URL:https://richmondsf.org/event/one-richmond-cleanup/2029-11-01/
LOCATION:One Richmond\, 802 Clement St\, San Francisco\, CA\, 94118\, United States
CATEGORIES:Community
ATTACH;FMTTYPE=image/png:https://richmondsf.org/wp-content/uploads/2025/02/One-Richmond-Refuse-Refuse-.png
END:VEVENT
BEGIN:VEVENT
DTSTART;TZID=America/Los_Angeles:20291105T120000
DTEND;TZID=America/Los_Angeles:20291105T133000
DTSTAMP:20260420T155717
CREATED:20250604T190935Z
LAST-MODIFIED:20250604T191109Z
UID:10000388-1888574400-1888579800@richmondsf.org
SUMMARY:Join us for a Neighborhood Clean-Up!
DESCRIPTION:  \n📍 Location: The Richmond Neighborhood Center\, 741 30th Ave (near Balboa)\, San Francisco\, CA 94121 \n🧹 What to expect: We’ll gather supplies at the  Neighborhood Center\, form our crew\, and clean up the neighborhood! It’s a great way to give back and beautify the streets we all love. \n✨ Sign up today or just turn up and let’s make a difference\, one block at a time! \n#CommunityCleanup #SanFrancisco #Volunteer #RichmondDistrict #therichmondneighborhoodcenter  #RefuseRefuseSF #togethersf #outerrichmond #richmonddistrictsf
URL:https://richmondsf.org/event/join-us-for-a-neighborhood-clean-up-2-2/2029-11-05/
LOCATION:The Richmond Neighborhood Center\, 741 30th Ave\, San Francisco\, CA\, 94121\, United States
ATTACH;FMTTYPE=image/png:https://richmondsf.org/wp-content/uploads/2025/01/2025-Richmond-Neighborhood-Center-Cleanup-Flyer.pdf-Instagram-Post-45.png
END:VEVENT
BEGIN:VEVENT
DTSTART;TZID=America/Los_Angeles:20291203T120000
DTEND;TZID=America/Los_Angeles:20291203T133000
DTSTAMP:20260420T155717
CREATED:20250604T190935Z
LAST-MODIFIED:20250604T191109Z
UID:10000389-1890993600-1890999000@richmondsf.org
SUMMARY:Join us for a Neighborhood Clean-Up!
DESCRIPTION:  \n📍 Location: The Richmond Neighborhood Center\, 741 30th Ave (near Balboa)\, San Francisco\, CA 94121 \n🧹 What to expect: We’ll gather supplies at the  Neighborhood Center\, form our crew\, and clean up the neighborhood! It’s a great way to give back and beautify the streets we all love. \n✨ Sign up today or just turn up and let’s make a difference\, one block at a time! \n#CommunityCleanup #SanFrancisco #Volunteer #RichmondDistrict #therichmondneighborhoodcenter  #RefuseRefuseSF #togethersf #outerrichmond #richmonddistrictsf
URL:https://richmondsf.org/event/join-us-for-a-neighborhood-clean-up-2-2/2029-12-03/
LOCATION:The Richmond Neighborhood Center\, 741 30th Ave\, San Francisco\, CA\, 94121\, United States
ATTACH;FMTTYPE=image/png:https://richmondsf.org/wp-content/uploads/2025/01/2025-Richmond-Neighborhood-Center-Cleanup-Flyer.pdf-Instagram-Post-45.png
END:VEVENT
BEGIN:VEVENT
DTSTART;TZID=America/Los_Angeles:20291206T153000
DTEND;TZID=America/Los_Angeles:20291206T163000
DTSTAMP:20260420T155717
CREATED:20250205T223844Z
LAST-MODIFIED:20250205T223844Z
UID:10000125-1891265400-1891269000@richmondsf.org
SUMMARY:One Richmond Cleanup
DESCRIPTION:Join us on First Thursdays from 3:30-4:30pm for a One Richmond Cleanup! Let’s come together to keep our neighborhood beautiful and vibrant 🌿✨. Whether you’re a longtime resident or new to the area\, all are welcome to lend a hand! Clean up supplies will be provided. \n📍 Meet at 802 Clement Street.\nFirst Thursdays of the month from 3:30-4:30pm
URL:https://richmondsf.org/event/one-richmond-cleanup/2029-12-06/
LOCATION:One Richmond\, 802 Clement St\, San Francisco\, CA\, 94118\, United States
CATEGORIES:Community
ATTACH;FMTTYPE=image/png:https://richmondsf.org/wp-content/uploads/2025/02/One-Richmond-Refuse-Refuse-.png
END:VEVENT
BEGIN:VEVENT
DTSTART;TZID=America/Los_Angeles:20300103T153000
DTEND;TZID=America/Los_Angeles:20300103T163000
DTSTAMP:20260420T155717
CREATED:20250205T223844Z
LAST-MODIFIED:20250205T223844Z
UID:10000126-1893684600-1893688200@richmondsf.org
SUMMARY:One Richmond Cleanup
DESCRIPTION:Join us on First Thursdays from 3:30-4:30pm for a One Richmond Cleanup! Let’s come together to keep our neighborhood beautiful and vibrant 🌿✨. Whether you’re a longtime resident or new to the area\, all are welcome to lend a hand! Clean up supplies will be provided. \n📍 Meet at 802 Clement Street.\nFirst Thursdays of the month from 3:30-4:30pm
URL:https://richmondsf.org/event/one-richmond-cleanup/2030-01-03/
LOCATION:One Richmond\, 802 Clement St\, San Francisco\, CA\, 94118\, United States
CATEGORIES:Community
ATTACH;FMTTYPE=image/png:https://richmondsf.org/wp-content/uploads/2025/02/One-Richmond-Refuse-Refuse-.png
END:VEVENT
BEGIN:VEVENT
DTSTART;TZID=America/Los_Angeles:20300107T120000
DTEND;TZID=America/Los_Angeles:20300107T133000
DTSTAMP:20260420T155717
CREATED:20250604T190935Z
LAST-MODIFIED:20250604T191109Z
UID:10000390-1894017600-1894023000@richmondsf.org
SUMMARY:Join us for a Neighborhood Clean-Up!
DESCRIPTION:  \n📍 Location: The Richmond Neighborhood Center\, 741 30th Ave (near Balboa)\, San Francisco\, CA 94121 \n🧹 What to expect: We’ll gather supplies at the  Neighborhood Center\, form our crew\, and clean up the neighborhood! It’s a great way to give back and beautify the streets we all love. \n✨ Sign up today or just turn up and let’s make a difference\, one block at a time! \n#CommunityCleanup #SanFrancisco #Volunteer #RichmondDistrict #therichmondneighborhoodcenter  #RefuseRefuseSF #togethersf #outerrichmond #richmonddistrictsf
URL:https://richmondsf.org/event/join-us-for-a-neighborhood-clean-up-2-2/2030-01-07/
LOCATION:The Richmond Neighborhood Center\, 741 30th Ave\, San Francisco\, CA\, 94121\, United States
ATTACH;FMTTYPE=image/png:https://richmondsf.org/wp-content/uploads/2025/01/2025-Richmond-Neighborhood-Center-Cleanup-Flyer.pdf-Instagram-Post-45.png
END:VEVENT
BEGIN:VEVENT
DTSTART;TZID=America/Los_Angeles:20300204T120000
DTEND;TZID=America/Los_Angeles:20300204T133000
DTSTAMP:20260420T155717
CREATED:20250604T190935Z
LAST-MODIFIED:20250604T191109Z
UID:10000391-1896436800-1896442200@richmondsf.org
SUMMARY:Join us for a Neighborhood Clean-Up!
DESCRIPTION:  \n📍 Location: The Richmond Neighborhood Center\, 741 30th Ave (near Balboa)\, San Francisco\, CA 94121 \n🧹 What to expect: We’ll gather supplies at the  Neighborhood Center\, form our crew\, and clean up the neighborhood! It’s a great way to give back and beautify the streets we all love. \n✨ Sign up today or just turn up and let’s make a difference\, one block at a time! \n#CommunityCleanup #SanFrancisco #Volunteer #RichmondDistrict #therichmondneighborhoodcenter  #RefuseRefuseSF #togethersf #outerrichmond #richmonddistrictsf
URL:https://richmondsf.org/event/join-us-for-a-neighborhood-clean-up-2-2/2030-02-04/
LOCATION:The Richmond Neighborhood Center\, 741 30th Ave\, San Francisco\, CA\, 94121\, United States
ATTACH;FMTTYPE=image/png:https://richmondsf.org/wp-content/uploads/2025/01/2025-Richmond-Neighborhood-Center-Cleanup-Flyer.pdf-Instagram-Post-45.png
END:VEVENT
BEGIN:VEVENT
DTSTART;TZID=America/Los_Angeles:20300304T120000
DTEND;TZID=America/Los_Angeles:20300304T133000
DTSTAMP:20260420T155717
CREATED:20250604T190935Z
LAST-MODIFIED:20250604T191109Z
UID:10000392-1898856000-1898861400@richmondsf.org
SUMMARY:Join us for a Neighborhood Clean-Up!
DESCRIPTION:  \n📍 Location: The Richmond Neighborhood Center\, 741 30th Ave (near Balboa)\, San Francisco\, CA 94121 \n🧹 What to expect: We’ll gather supplies at the  Neighborhood Center\, form our crew\, and clean up the neighborhood! It’s a great way to give back and beautify the streets we all love. \n✨ Sign up today or just turn up and let’s make a difference\, one block at a time! \n#CommunityCleanup #SanFrancisco #Volunteer #RichmondDistrict #therichmondneighborhoodcenter  #RefuseRefuseSF #togethersf #outerrichmond #richmonddistrictsf
URL:https://richmondsf.org/event/join-us-for-a-neighborhood-clean-up-2-2/2030-03-04/
LOCATION:The Richmond Neighborhood Center\, 741 30th Ave\, San Francisco\, CA\, 94121\, United States
ATTACH;FMTTYPE=image/png:https://richmondsf.org/wp-content/uploads/2025/01/2025-Richmond-Neighborhood-Center-Cleanup-Flyer.pdf-Instagram-Post-45.png
END:VEVENT
BEGIN:VEVENT
DTSTART;TZID=America/Los_Angeles:20300401T120000
DTEND;TZID=America/Los_Angeles:20300401T133000
DTSTAMP:20260420T155717
CREATED:20250604T190935Z
LAST-MODIFIED:20250604T191109Z
UID:10000393-1901275200-1901280600@richmondsf.org
SUMMARY:Join us for a Neighborhood Clean-Up!
DESCRIPTION:  \n📍 Location: The Richmond Neighborhood Center\, 741 30th Ave (near Balboa)\, San Francisco\, CA 94121 \n🧹 What to expect: We’ll gather supplies at the  Neighborhood Center\, form our crew\, and clean up the neighborhood! It’s a great way to give back and beautify the streets we all love. \n✨ Sign up today or just turn up and let’s make a difference\, one block at a time! \n#CommunityCleanup #SanFrancisco #Volunteer #RichmondDistrict #therichmondneighborhoodcenter  #RefuseRefuseSF #togethersf #outerrichmond #richmonddistrictsf
URL:https://richmondsf.org/event/join-us-for-a-neighborhood-clean-up-2-2/2030-04-01/
LOCATION:The Richmond Neighborhood Center\, 741 30th Ave\, San Francisco\, CA\, 94121\, United States
ATTACH;FMTTYPE=image/png:https://richmondsf.org/wp-content/uploads/2025/01/2025-Richmond-Neighborhood-Center-Cleanup-Flyer.pdf-Instagram-Post-45.png
END:VEVENT
BEGIN:VEVENT
DTSTART;TZID=America/Los_Angeles:20300506T120000
DTEND;TZID=America/Los_Angeles:20300506T133000
DTSTAMP:20260420T155717
CREATED:20250604T190935Z
LAST-MODIFIED:20250604T191109Z
UID:10000394-1904299200-1904304600@richmondsf.org
SUMMARY:Join us for a Neighborhood Clean-Up!
DESCRIPTION:  \n📍 Location: The Richmond Neighborhood Center\, 741 30th Ave (near Balboa)\, San Francisco\, CA 94121 \n🧹 What to expect: We’ll gather supplies at the  Neighborhood Center\, form our crew\, and clean up the neighborhood! It’s a great way to give back and beautify the streets we all love. \n✨ Sign up today or just turn up and let’s make a difference\, one block at a time! \n#CommunityCleanup #SanFrancisco #Volunteer #RichmondDistrict #therichmondneighborhoodcenter  #RefuseRefuseSF #togethersf #outerrichmond #richmonddistrictsf
URL:https://richmondsf.org/event/join-us-for-a-neighborhood-clean-up-2-2/2030-05-06/
LOCATION:The Richmond Neighborhood Center\, 741 30th Ave\, San Francisco\, CA\, 94121\, United States
ATTACH;FMTTYPE=image/png:https://richmondsf.org/wp-content/uploads/2025/01/2025-Richmond-Neighborhood-Center-Cleanup-Flyer.pdf-Instagram-Post-45.png
END:VEVENT
BEGIN:VEVENT
DTSTART;TZID=America/Los_Angeles:20300603T120000
DTEND;TZID=America/Los_Angeles:20300603T133000
DTSTAMP:20260420T155717
CREATED:20250604T190935Z
LAST-MODIFIED:20250604T191109Z
UID:10000395-1906718400-1906723800@richmondsf.org
SUMMARY:Join us for a Neighborhood Clean-Up!
DESCRIPTION:  \n📍 Location: The Richmond Neighborhood Center\, 741 30th Ave (near Balboa)\, San Francisco\, CA 94121 \n🧹 What to expect: We’ll gather supplies at the  Neighborhood Center\, form our crew\, and clean up the neighborhood! It’s a great way to give back and beautify the streets we all love. \n✨ Sign up today or just turn up and let’s make a difference\, one block at a time! \n#CommunityCleanup #SanFrancisco #Volunteer #RichmondDistrict #therichmondneighborhoodcenter  #RefuseRefuseSF #togethersf #outerrichmond #richmonddistrictsf
URL:https://richmondsf.org/event/join-us-for-a-neighborhood-clean-up-2-2/2030-06-03/
LOCATION:The Richmond Neighborhood Center\, 741 30th Ave\, San Francisco\, CA\, 94121\, United States
ATTACH;FMTTYPE=image/png:https://richmondsf.org/wp-content/uploads/2025/01/2025-Richmond-Neighborhood-Center-Cleanup-Flyer.pdf-Instagram-Post-45.png
END:VEVENT
END:VCALENDAR