BEGIN:VCALENDAR
VERSION:2.0
PRODID:-//The Richmond Neighborhood Center - ECPv6.15.20//NONSGML v1.0//EN
CALSCALE:GREGORIAN
METHOD:PUBLISH
X-ORIGINAL-URL:https://richmondsf.org
X-WR-CALDESC:Events for The Richmond Neighborhood Center
REFRESH-INTERVAL;VALUE=DURATION:PT1H
X-Robots-Tag:noindex
X-PUBLISHED-TTL:PT1H
BEGIN:VTIMEZONE
TZID:America/Los_Angeles
BEGIN:DAYLIGHT
TZOFFSETFROM:-0800
TZOFFSETTO:-0700
TZNAME:PDT
DTSTART:20240310T100000
END:DAYLIGHT
BEGIN:STANDARD
TZOFFSETFROM:-0700
TZOFFSETTO:-0800
TZNAME:PST
DTSTART:20241103T090000
END:STANDARD
BEGIN:DAYLIGHT
TZOFFSETFROM:-0800
TZOFFSETTO:-0700
TZNAME:PDT
DTSTART:20250309T100000
END:DAYLIGHT
BEGIN:STANDARD
TZOFFSETFROM:-0700
TZOFFSETTO:-0800
TZNAME:PST
DTSTART:20251102T090000
END:STANDARD
BEGIN:DAYLIGHT
TZOFFSETFROM:-0800
TZOFFSETTO:-0700
TZNAME:PDT
DTSTART:20260308T100000
END:DAYLIGHT
BEGIN:STANDARD
TZOFFSETFROM:-0700
TZOFFSETTO:-0800
TZNAME:PST
DTSTART:20261101T090000
END:STANDARD
BEGIN:DAYLIGHT
TZOFFSETFROM:-0800
TZOFFSETTO:-0700
TZNAME:PDT
DTSTART:20270314T100000
END:DAYLIGHT
BEGIN:STANDARD
TZOFFSETFROM:-0700
TZOFFSETTO:-0800
TZNAME:PST
DTSTART:20271107T090000
END:STANDARD
END:VTIMEZONE
BEGIN:VEVENT
DTSTART;TZID=America/Los_Angeles:20260402T153000
DTEND;TZID=America/Los_Angeles:20260402T163000
DTSTAMP:20260420T064757
CREATED:20250205T223844Z
LAST-MODIFIED:20250205T223844Z
UID:10000081-1775143800-1775147400@richmondsf.org
SUMMARY:One Richmond Cleanup
DESCRIPTION:Join us on First Thursdays from 3:30-4:30pm for a One Richmond Cleanup! Let’s come together to keep our neighborhood beautiful and vibrant 🌿✨. Whether you’re a longtime resident or new to the area\, all are welcome to lend a hand! Clean up supplies will be provided. \n📍 Meet at 802 Clement Street.\nFirst Thursdays of the month from 3:30-4:30pm
URL:https://richmondsf.org/event/one-richmond-cleanup/2026-04-02/
LOCATION:One Richmond\, 802 Clement St\, San Francisco\, CA\, 94118\, United States
CATEGORIES:Community
ATTACH;FMTTYPE=image/png:https://richmondsf.org/wp-content/uploads/2025/02/One-Richmond-Refuse-Refuse-.png
END:VEVENT
BEGIN:VEVENT
DTSTART;TZID=America/Los_Angeles:20260305T153000
DTEND;TZID=America/Los_Angeles:20260305T163000
DTSTAMP:20260420T064757
CREATED:20250205T223844Z
LAST-MODIFIED:20250205T223844Z
UID:10000080-1772724600-1772728200@richmondsf.org
SUMMARY:One Richmond Cleanup
DESCRIPTION:Join us on First Thursdays from 3:30-4:30pm for a One Richmond Cleanup! Let’s come together to keep our neighborhood beautiful and vibrant 🌿✨. Whether you’re a longtime resident or new to the area\, all are welcome to lend a hand! Clean up supplies will be provided. \n📍 Meet at 802 Clement Street.\nFirst Thursdays of the month from 3:30-4:30pm
URL:https://richmondsf.org/event/one-richmond-cleanup/2026-03-05/
LOCATION:One Richmond\, 802 Clement St\, San Francisco\, CA\, 94118\, United States
CATEGORIES:Community
ATTACH;FMTTYPE=image/png:https://richmondsf.org/wp-content/uploads/2025/02/One-Richmond-Refuse-Refuse-.png
END:VEVENT
BEGIN:VEVENT
DTSTART;TZID=America/Los_Angeles:20260205T153000
DTEND;TZID=America/Los_Angeles:20260205T163000
DTSTAMP:20260420T064757
CREATED:20250205T223844Z
LAST-MODIFIED:20250205T223844Z
UID:10000079-1770305400-1770309000@richmondsf.org
SUMMARY:One Richmond Cleanup
DESCRIPTION:Join us on First Thursdays from 3:30-4:30pm for a One Richmond Cleanup! Let’s come together to keep our neighborhood beautiful and vibrant 🌿✨. Whether you’re a longtime resident or new to the area\, all are welcome to lend a hand! Clean up supplies will be provided. \n📍 Meet at 802 Clement Street.\nFirst Thursdays of the month from 3:30-4:30pm
URL:https://richmondsf.org/event/one-richmond-cleanup/2026-02-05/
LOCATION:One Richmond\, 802 Clement St\, San Francisco\, CA\, 94118\, United States
CATEGORIES:Community
ATTACH;FMTTYPE=image/png:https://richmondsf.org/wp-content/uploads/2025/02/One-Richmond-Refuse-Refuse-.png
END:VEVENT
BEGIN:VEVENT
DTSTART;TZID=America/Los_Angeles:20260101T153000
DTEND;TZID=America/Los_Angeles:20260101T163000
DTSTAMP:20260420T064757
CREATED:20250205T223844Z
LAST-MODIFIED:20250205T223844Z
UID:10000078-1767281400-1767285000@richmondsf.org
SUMMARY:One Richmond Cleanup
DESCRIPTION:Join us on First Thursdays from 3:30-4:30pm for a One Richmond Cleanup! Let’s come together to keep our neighborhood beautiful and vibrant 🌿✨. Whether you’re a longtime resident or new to the area\, all are welcome to lend a hand! Clean up supplies will be provided. \n📍 Meet at 802 Clement Street.\nFirst Thursdays of the month from 3:30-4:30pm
URL:https://richmondsf.org/event/one-richmond-cleanup/2026-01-01/
LOCATION:One Richmond\, 802 Clement St\, San Francisco\, CA\, 94118\, United States
CATEGORIES:Community
ATTACH;FMTTYPE=image/png:https://richmondsf.org/wp-content/uploads/2025/02/One-Richmond-Refuse-Refuse-.png
END:VEVENT
BEGIN:VEVENT
DTSTART;TZID=America/Los_Angeles:20251204T153000
DTEND;TZID=America/Los_Angeles:20251204T163000
DTSTAMP:20260420T064757
CREATED:20250205T223844Z
LAST-MODIFIED:20250205T223844Z
UID:10000077-1764862200-1764865800@richmondsf.org
SUMMARY:One Richmond Cleanup
DESCRIPTION:Join us on First Thursdays from 3:30-4:30pm for a One Richmond Cleanup! Let’s come together to keep our neighborhood beautiful and vibrant 🌿✨. Whether you’re a longtime resident or new to the area\, all are welcome to lend a hand! Clean up supplies will be provided. \n📍 Meet at 802 Clement Street.\nFirst Thursdays of the month from 3:30-4:30pm
URL:https://richmondsf.org/event/one-richmond-cleanup/2025-12-04/
LOCATION:One Richmond\, 802 Clement St\, San Francisco\, CA\, 94118\, United States
CATEGORIES:Community
ATTACH;FMTTYPE=image/png:https://richmondsf.org/wp-content/uploads/2025/02/One-Richmond-Refuse-Refuse-.png
END:VEVENT
BEGIN:VEVENT
DTSTART;TZID=America/Los_Angeles:20251106T153000
DTEND;TZID=America/Los_Angeles:20251106T163000
DTSTAMP:20260420T064757
CREATED:20250205T223844Z
LAST-MODIFIED:20250205T223844Z
UID:10000076-1762443000-1762446600@richmondsf.org
SUMMARY:One Richmond Cleanup
DESCRIPTION:Join us on First Thursdays from 3:30-4:30pm for a One Richmond Cleanup! Let’s come together to keep our neighborhood beautiful and vibrant 🌿✨. Whether you’re a longtime resident or new to the area\, all are welcome to lend a hand! Clean up supplies will be provided. \n📍 Meet at 802 Clement Street.\nFirst Thursdays of the month from 3:30-4:30pm
URL:https://richmondsf.org/event/one-richmond-cleanup/2025-11-06/
LOCATION:One Richmond\, 802 Clement St\, San Francisco\, CA\, 94118\, United States
CATEGORIES:Community
ATTACH;FMTTYPE=image/png:https://richmondsf.org/wp-content/uploads/2025/02/One-Richmond-Refuse-Refuse-.png
END:VEVENT
BEGIN:VEVENT
DTSTART;TZID=America/Los_Angeles:20251002T153000
DTEND;TZID=America/Los_Angeles:20251002T163000
DTSTAMP:20260420T064757
CREATED:20250205T223844Z
LAST-MODIFIED:20250205T223844Z
UID:10000075-1759419000-1759422600@richmondsf.org
SUMMARY:One Richmond Cleanup
DESCRIPTION:Join us on First Thursdays from 3:30-4:30pm for a One Richmond Cleanup! Let’s come together to keep our neighborhood beautiful and vibrant 🌿✨. Whether you’re a longtime resident or new to the area\, all are welcome to lend a hand! Clean up supplies will be provided. \n📍 Meet at 802 Clement Street.\nFirst Thursdays of the month from 3:30-4:30pm
URL:https://richmondsf.org/event/one-richmond-cleanup/2025-10-02/
LOCATION:One Richmond\, 802 Clement St\, San Francisco\, CA\, 94118\, United States
CATEGORIES:Community
ATTACH;FMTTYPE=image/png:https://richmondsf.org/wp-content/uploads/2025/02/One-Richmond-Refuse-Refuse-.png
END:VEVENT
BEGIN:VEVENT
DTSTART;TZID=America/Los_Angeles:20250904T153000
DTEND;TZID=America/Los_Angeles:20250904T163000
DTSTAMP:20260420T064757
CREATED:20250205T223844Z
LAST-MODIFIED:20250205T223844Z
UID:10000074-1756999800-1757003400@richmondsf.org
SUMMARY:One Richmond Cleanup
DESCRIPTION:Join us on First Thursdays from 3:30-4:30pm for a One Richmond Cleanup! Let’s come together to keep our neighborhood beautiful and vibrant 🌿✨. Whether you’re a longtime resident or new to the area\, all are welcome to lend a hand! Clean up supplies will be provided. \n📍 Meet at 802 Clement Street.\nFirst Thursdays of the month from 3:30-4:30pm
URL:https://richmondsf.org/event/one-richmond-cleanup/2025-09-04/
LOCATION:One Richmond\, 802 Clement St\, San Francisco\, CA\, 94118\, United States
CATEGORIES:Community
ATTACH;FMTTYPE=image/png:https://richmondsf.org/wp-content/uploads/2025/02/One-Richmond-Refuse-Refuse-.png
END:VEVENT
BEGIN:VEVENT
DTSTART;TZID=America/Los_Angeles:20250807T153000
DTEND;TZID=America/Los_Angeles:20250807T163000
DTSTAMP:20260420T064757
CREATED:20250205T223844Z
LAST-MODIFIED:20250205T223844Z
UID:10000073-1754580600-1754584200@richmondsf.org
SUMMARY:One Richmond Cleanup
DESCRIPTION:Join us on First Thursdays from 3:30-4:30pm for a One Richmond Cleanup! Let’s come together to keep our neighborhood beautiful and vibrant 🌿✨. Whether you’re a longtime resident or new to the area\, all are welcome to lend a hand! Clean up supplies will be provided. \n📍 Meet at 802 Clement Street.\nFirst Thursdays of the month from 3:30-4:30pm
URL:https://richmondsf.org/event/one-richmond-cleanup/2025-08-07/
LOCATION:One Richmond\, 802 Clement St\, San Francisco\, CA\, 94118\, United States
CATEGORIES:Community
ATTACH;FMTTYPE=image/png:https://richmondsf.org/wp-content/uploads/2025/02/One-Richmond-Refuse-Refuse-.png
END:VEVENT
BEGIN:VEVENT
DTSTART;TZID=America/Los_Angeles:20250703T153000
DTEND;TZID=America/Los_Angeles:20250703T163000
DTSTAMP:20260420T064757
CREATED:20250205T223844Z
LAST-MODIFIED:20250205T223844Z
UID:10000072-1751556600-1751560200@richmondsf.org
SUMMARY:One Richmond Cleanup
DESCRIPTION:Join us on First Thursdays from 3:30-4:30pm for a One Richmond Cleanup! Let’s come together to keep our neighborhood beautiful and vibrant 🌿✨. Whether you’re a longtime resident or new to the area\, all are welcome to lend a hand! Clean up supplies will be provided. \n📍 Meet at 802 Clement Street.\nFirst Thursdays of the month from 3:30-4:30pm
URL:https://richmondsf.org/event/one-richmond-cleanup/2025-07-03/
LOCATION:One Richmond\, 802 Clement St\, San Francisco\, CA\, 94118\, United States
CATEGORIES:Community
ATTACH;FMTTYPE=image/png:https://richmondsf.org/wp-content/uploads/2025/02/One-Richmond-Refuse-Refuse-.png
END:VEVENT
BEGIN:VEVENT
DTSTART;TZID=America/Los_Angeles:20250605T153000
DTEND;TZID=America/Los_Angeles:20250605T163000
DTSTAMP:20260420T064757
CREATED:20250205T223844Z
LAST-MODIFIED:20250205T223844Z
UID:10000071-1749137400-1749141000@richmondsf.org
SUMMARY:One Richmond Cleanup
DESCRIPTION:Join us on First Thursdays from 3:30-4:30pm for a One Richmond Cleanup! Let’s come together to keep our neighborhood beautiful and vibrant 🌿✨. Whether you’re a longtime resident or new to the area\, all are welcome to lend a hand! Clean up supplies will be provided. \n📍 Meet at 802 Clement Street.\nFirst Thursdays of the month from 3:30-4:30pm
URL:https://richmondsf.org/event/one-richmond-cleanup/2025-06-05/
LOCATION:One Richmond\, 802 Clement St\, San Francisco\, CA\, 94118\, United States
CATEGORIES:Community
ATTACH;FMTTYPE=image/png:https://richmondsf.org/wp-content/uploads/2025/02/One-Richmond-Refuse-Refuse-.png
END:VEVENT
BEGIN:VEVENT
DTSTART;TZID=America/Los_Angeles:20250501T153000
DTEND;TZID=America/Los_Angeles:20250501T163000
DTSTAMP:20260420T064757
CREATED:20250205T223844Z
LAST-MODIFIED:20250205T223844Z
UID:10000070-1746113400-1746117000@richmondsf.org
SUMMARY:One Richmond Cleanup
DESCRIPTION:Join us on First Thursdays from 3:30-4:30pm for a One Richmond Cleanup! Let’s come together to keep our neighborhood beautiful and vibrant 🌿✨. Whether you’re a longtime resident or new to the area\, all are welcome to lend a hand! Clean up supplies will be provided. \n📍 Meet at 802 Clement Street.\nFirst Thursdays of the month from 3:30-4:30pm
URL:https://richmondsf.org/event/one-richmond-cleanup/2025-05-01/
LOCATION:One Richmond\, 802 Clement St\, San Francisco\, CA\, 94118\, United States
CATEGORIES:Community
ATTACH;FMTTYPE=image/png:https://richmondsf.org/wp-content/uploads/2025/02/One-Richmond-Refuse-Refuse-.png
END:VEVENT
BEGIN:VEVENT
DTSTART;TZID=America/Los_Angeles:20250403T153000
DTEND;TZID=America/Los_Angeles:20250403T163000
DTSTAMP:20260420T064757
CREATED:20250205T223844Z
LAST-MODIFIED:20250205T223844Z
UID:10000069-1743694200-1743697800@richmondsf.org
SUMMARY:One Richmond Cleanup
DESCRIPTION:Join us on First Thursdays from 3:30-4:30pm for a One Richmond Cleanup! Let’s come together to keep our neighborhood beautiful and vibrant 🌿✨. Whether you’re a longtime resident or new to the area\, all are welcome to lend a hand! Clean up supplies will be provided. \n📍 Meet at 802 Clement Street.\nFirst Thursdays of the month from 3:30-4:30pm
URL:https://richmondsf.org/event/one-richmond-cleanup/2025-04-03/
LOCATION:One Richmond\, 802 Clement St\, San Francisco\, CA\, 94118\, United States
CATEGORIES:Community
ATTACH;FMTTYPE=image/png:https://richmondsf.org/wp-content/uploads/2025/02/One-Richmond-Refuse-Refuse-.png
END:VEVENT
BEGIN:VEVENT
DTSTART;TZID=America/Los_Angeles:20250306T153000
DTEND;TZID=America/Los_Angeles:20250306T163000
DTSTAMP:20260420T064757
CREATED:20250205T223844Z
LAST-MODIFIED:20250205T223844Z
UID:10000068-1741275000-1741278600@richmondsf.org
SUMMARY:One Richmond Cleanup
DESCRIPTION:Join us on First Thursdays from 3:30-4:30pm for a One Richmond Cleanup! Let’s come together to keep our neighborhood beautiful and vibrant 🌿✨. Whether you’re a longtime resident or new to the area\, all are welcome to lend a hand! Clean up supplies will be provided. \n📍 Meet at 802 Clement Street.\nFirst Thursdays of the month from 3:30-4:30pm
URL:https://richmondsf.org/event/one-richmond-cleanup/2025-03-06/
LOCATION:One Richmond\, 802 Clement St\, San Francisco\, CA\, 94118\, United States
CATEGORIES:Community
ATTACH;FMTTYPE=image/png:https://richmondsf.org/wp-content/uploads/2025/02/One-Richmond-Refuse-Refuse-.png
END:VEVENT
BEGIN:VEVENT
DTSTART;TZID=America/Los_Angeles:20250206T153000
DTEND;TZID=America/Los_Angeles:20250206T163000
DTSTAMP:20260420T064757
CREATED:20250205T223844Z
LAST-MODIFIED:20250205T223844Z
UID:10000067-1738855800-1738859400@richmondsf.org
SUMMARY:One Richmond Cleanup
DESCRIPTION:Join us on First Thursdays from 3:30-4:30pm for a One Richmond Cleanup! Let’s come together to keep our neighborhood beautiful and vibrant 🌿✨. Whether you’re a longtime resident or new to the area\, all are welcome to lend a hand! Clean up supplies will be provided. \n📍 Meet at 802 Clement Street.\nFirst Thursdays of the month from 3:30-4:30pm
URL:https://richmondsf.org/event/one-richmond-cleanup/2025-02-06/
LOCATION:One Richmond\, 802 Clement St\, San Francisco\, CA\, 94118\, United States
CATEGORIES:Community
ATTACH;FMTTYPE=image/png:https://richmondsf.org/wp-content/uploads/2025/02/One-Richmond-Refuse-Refuse-.png
END:VEVENT
END:VCALENDAR